Package: DelayedRandomArray Version: 1.18.0 Command: /home/biocbuild/bbs-3.22-bioc/R/bin/R CMD check --install=check:DelayedRandomArray.install-out.txt --library=/home/biocbuild/bbs-3.22-bioc/R/site-library --timings DelayedRandomArray_1.18.0.tar.gz StartedAt: 2025-11-11 22:59:33 -0500 (Tue, 11 Nov 2025) EndedAt: 2025-11-11 23:01:52 -0500 (Tue, 11 Nov 2025) EllapsedTime: 139.1 seconds RetCode: 0 Status: OK CheckDir: DelayedRandomArray.Rcheck Warnings: 0