Package: DelayedMatrixStats Version: 1.31.0 Command: F:\biocbuild\bbs-3.22-bioc\R\bin\R.exe CMD check --no-multiarch --install=check:DelayedMatrixStats.install-out.txt --library=F:\biocbuild\bbs-3.22-bioc\R\library --no-vignettes --timings DelayedMatrixStats_1.31.0.tar.gz StartedAt: 2025-08-15 02:24:44 -0400 (Fri, 15 Aug 2025) EndedAt: 2025-08-15 02:30:54 -0400 (Fri, 15 Aug 2025) EllapsedTime: 370.2 seconds RetCode: 0 Status: OK CheckDir: DelayedMatrixStats.Rcheck Warnings: 0