Package: DelayedMatrixStats Version: 1.30.0 Command: chmod a+r DelayedMatrixStats -R && E:\biocbuild\bbs-3.21-bioc\R\bin\R.exe CMD build --keep-empty-dirs --no-resave-data DelayedMatrixStats StartedAt: 2025-08-14 18:31:48 -0400 (Thu, 14 Aug 2025) EndedAt: 2025-08-14 18:38:36 -0400 (Thu, 14 Aug 2025) EllapsedTime: 407.9 seconds RetCode: 0 Status: OK PackageFile: DelayedMatrixStats_1.30.0.tar.gz PackageFileSize: 264.6 KiB