Package: DelayedMatrixStats Version: 1.32.0 Command: /home/biocbuild/bbs-3.22-bioc/R/bin/R CMD check --install=check:DelayedMatrixStats.install-out.txt --library=/home/biocbuild/bbs-3.22-bioc/R/site-library --timings DelayedMatrixStats_1.32.0.tar.gz StartedAt: 2025-11-11 22:59:06 -0500 (Tue, 11 Nov 2025) EndedAt: 2025-11-11 23:07:53 -0500 (Tue, 11 Nov 2025) EllapsedTime: 527.4 seconds RetCode: 0 Status: OK CheckDir: DelayedMatrixStats.Rcheck Warnings: 0