Package: DelayedMatrixStats Version: 1.32.0 Command: /home/biocbuild/bbs-3.22-bioc/R/bin/R CMD build --keep-empty-dirs --no-resave-data --md5 DelayedMatrixStats StartedAt: 2025-11-11 17:19:15 -0500 (Tue, 11 Nov 2025) EndedAt: 2025-11-11 17:23:22 -0500 (Tue, 11 Nov 2025) EllapsedTime: 247.2 seconds RetCode: 0 Status: OK PackageFile: DelayedMatrixStats_1.32.0.tar.gz PackageFileSize: 267.9 KiB