Package: DelayedMatrixStats Version: 1.30.0 Command: /home/biocbuild/bbs-3.21-bioc/R/bin/R CMD check --install=check:DelayedMatrixStats.install-out.txt --library=/home/biocbuild/bbs-3.21-bioc/R/site-library --timings DelayedMatrixStats_1.30.0.tar.gz StartedAt: 2025-09-28 22:41:16 -0400 (Sun, 28 Sep 2025) EndedAt: 2025-09-28 22:50:09 -0400 (Sun, 28 Sep 2025) EllapsedTime: 532.7 seconds RetCode: 0 Status: OK CheckDir: DelayedMatrixStats.Rcheck Warnings: 0