Package: DelayedMatrixStats Version: 1.30.0 Command: /Library/Frameworks/R.framework/Resources/bin/R CMD build --keep-empty-dirs --no-resave-data DelayedMatrixStats StartedAt: 2025-09-25 18:28:39 -0400 (Thu, 25 Sep 2025) EndedAt: 2025-09-25 18:39:17 -0400 (Thu, 25 Sep 2025) EllapsedTime: 638.2 seconds RetCode: 0 Status: OK PackageFile: DelayedMatrixStats_1.30.0.tar.gz PackageFileSize: 264.2 KiB