Package: DelayedMatrixStats Version: 1.30.0 Command: /home/biocbuild/R/R/bin/R CMD check --install=check:DelayedMatrixStats.install-out.txt --library=/home/biocbuild/R/R/site-library --no-vignettes --timings DelayedMatrixStats_1.30.0.tar.gz StartedAt: 2025-10-14 08:20:03 -0000 (Tue, 14 Oct 2025) EndedAt: 2025-10-14 08:26:58 -0000 (Tue, 14 Oct 2025) EllapsedTime: 415.3 seconds RetCode: 0 Status: OK CheckDir: DelayedMatrixStats.Rcheck Warnings: 0