Package: DelayedMatrixStats Version: 1.30.0 Command: /home/biocbuild/R/R/bin/R CMD build --keep-empty-dirs --no-resave-data DelayedMatrixStats StartedAt: 2025-10-14 00:14:42 -0000 (Tue, 14 Oct 2025) EndedAt: 2025-10-14 00:21:04 -0000 (Tue, 14 Oct 2025) EllapsedTime: 382.1 seconds RetCode: 0 Status: OK PackageFile: DelayedMatrixStats_1.30.0.tar.gz PackageFileSize: 289 KiB