Package: DelayedDataFrame Version: 1.26.0 Command: /home/biocbuild/R/R/bin/R CMD INSTALL DelayedDataFrame StartedAt: 2025-11-10 21:23:43 -0000 (Mon, 10 Nov 2025) EndedAt: 2025-11-10 21:24:07 -0000 (Mon, 10 Nov 2025) EllapsedTime: 24.0 seconds RetCode: 0 Status: OK