Package: DelayedDataFrame Version: 1.26.0 Command: /home/biocbuild/R/R/bin/R CMD check --install=check:DelayedDataFrame.install-out.txt --library=/home/biocbuild/R/R/site-library --no-vignettes --timings DelayedDataFrame_1.26.0.tar.gz StartedAt: 2025-11-11 08:58:45 -0000 (Tue, 11 Nov 2025) EndedAt: 2025-11-11 09:01:19 -0000 (Tue, 11 Nov 2025) EllapsedTime: 154.1 seconds RetCode: 0 Status: OK CheckDir: DelayedDataFrame.Rcheck Warnings: 0