Package: DelayedDataFrame Version: 1.26.0 Command: /home/biocbuild/R/R/bin/R CMD build --keep-empty-dirs --no-resave-data DelayedDataFrame StartedAt: 2025-11-11 01:05:21 -0000 (Tue, 11 Nov 2025) EndedAt: 2025-11-11 01:05:59 -0000 (Tue, 11 Nov 2025) EllapsedTime: 38.0 seconds RetCode: 0 Status: OK PackageFile: DelayedDataFrame_1.26.0.tar.gz PackageFileSize: 551.4 KiB