Package: DelayedDataFrame Version: 1.26.0 Command: /home/biocbuild/bbs-3.22-bioc/R/bin/R CMD check --install=check:DelayedDataFrame.install-out.txt --library=/home/biocbuild/bbs-3.22-bioc/R/site-library --timings DelayedDataFrame_1.26.0.tar.gz StartedAt: 2025-11-11 22:59:05 -0500 (Tue, 11 Nov 2025) EndedAt: 2025-11-11 23:01:14 -0500 (Tue, 11 Nov 2025) EllapsedTime: 129.1 seconds RetCode: 0 Status: OK CheckDir: DelayedDataFrame.Rcheck Warnings: 0