Package: DelayedDataFrame Version: 1.24.0 Command: /Library/Frameworks/R.framework/Resources/bin/R CMD check --install=check:DelayedDataFrame.install-out.txt --library=/Library/Frameworks/R.framework/Resources/library --no-vignettes --timings DelayedDataFrame_1.24.0.tar.gz StartedAt: 2025-10-03 02:38:53 -0400 (Fri, 03 Oct 2025) EndedAt: 2025-10-03 02:43:29 -0400 (Fri, 03 Oct 2025) EllapsedTime: 276.7 seconds RetCode: 0 Status: OK CheckDir: DelayedDataFrame.Rcheck Warnings: 0