Package: DelayedArray Version: 0.36.0 Command: /home/biocbuild/R/R/bin/R CMD INSTALL DelayedArray StartedAt: 2025-11-10 21:21:49 -0000 (Mon, 10 Nov 2025) EndedAt: 2025-11-10 21:22:30 -0000 (Mon, 10 Nov 2025) EllapsedTime: 41.3 seconds RetCode: 0 Status: OK