Package: DelayedArray Version: 0.36.0 Command: _R_CHECK_CODETOOLS_PROFILE_="suppressFundefMismatch=TRUE" /home/biocbuild/R/R/bin/R CMD check --install=check:DelayedArray.install-out.txt --library=/home/biocbuild/R/R/site-library --no-vignettes --timings DelayedArray_0.36.0.tar.gz StartedAt: 2025-11-11 08:58:42 -0000 (Tue, 11 Nov 2025) EndedAt: 2025-11-11 09:32:44 -0000 (Tue, 11 Nov 2025) EllapsedTime: 2041.7 seconds RetCode: 0 Status: WARNINGS CheckDir: DelayedArray.Rcheck Warnings: 1