Package: DelayedArray Version: 0.36.0 Command: /home/biocbuild/R/R/bin/R CMD build --keep-empty-dirs --no-resave-data DelayedArray StartedAt: 2025-11-11 01:05:20 -0000 (Tue, 11 Nov 2025) EndedAt: 2025-11-11 01:06:37 -0000 (Tue, 11 Nov 2025) EllapsedTime: 77.0 seconds RetCode: 0 Status: OK PackageFile: DelayedArray_0.36.0.tar.gz PackageFileSize: 808.3 KiB