Package: DelayedArray Version: 0.35.2 Command: set _R_CHECK_CODETOOLS_PROFILE_='suppressFundefMismatch=TRUE'&& F:\biocbuild\bbs-3.22-bioc\R\bin\R.exe CMD check --no-multiarch --install=check:DelayedArray.install-out.txt --library=F:\biocbuild\bbs-3.22-bioc\R\library --no-vignettes --timings DelayedArray_0.35.2.tar.gz StartedAt: 2025-08-15 02:23:30 -0400 (Fri, 15 Aug 2025) EndedAt: 2025-08-15 02:58:19 -0400 (Fri, 15 Aug 2025) EllapsedTime: 2088.7 seconds RetCode: 0 Status: WARNINGS CheckDir: DelayedArray.Rcheck Warnings: 1