Package: DelayedArray Version: 0.36.0 Command: /home/biocbuild/bbs-3.22-bioc/R/bin/R CMD INSTALL DelayedArray StartedAt: 2025-11-11 15:19:23 -0500 (Tue, 11 Nov 2025) EndedAt: 2025-11-11 15:19:51 -0500 (Tue, 11 Nov 2025) EllapsedTime: 28.4 seconds RetCode: 0 Status: OK