Package: DelayedArray Version: 0.36.0 Command: _R_CHECK_CODETOOLS_PROFILE_="suppressFundefMismatch=TRUE" /home/biocbuild/bbs-3.22-bioc/R/bin/R CMD check --install=check:DelayedArray.install-out.txt --library=/home/biocbuild/bbs-3.22-bioc/R/site-library --timings DelayedArray_0.36.0.tar.gz StartedAt: 2025-11-11 22:59:04 -0500 (Tue, 11 Nov 2025) EndedAt: 2025-11-11 23:23:28 -0500 (Tue, 11 Nov 2025) EllapsedTime: 1464.3 seconds RetCode: 0 Status: WARNINGS CheckDir: DelayedArray.Rcheck Warnings: 1