Package: DelayedArray Version: 0.34.1 Command: /Library/Frameworks/R.framework/Resources/bin/R CMD INSTALL DelayedArray StartedAt: 2025-09-25 15:26:46 -0400 (Thu, 25 Sep 2025) EndedAt: 2025-09-25 15:28:01 -0400 (Thu, 25 Sep 2025) EllapsedTime: 74.3 seconds RetCode: 0 Status: OK