Package: DelayedArray Version: 0.34.1 Command: _R_CHECK_CODETOOLS_PROFILE_="suppressFundefMismatch=TRUE" /Library/Frameworks/R.framework/Resources/bin/R CMD check --install=check:DelayedArray.install-out.txt --library=/Library/Frameworks/R.framework/Resources/library --no-vignettes --timings DelayedArray_0.34.1.tar.gz StartedAt: 2025-10-10 02:38:55 -0400 (Fri, 10 Oct 2025) EndedAt: 2025-10-10 02:47:16 -0400 (Fri, 10 Oct 2025) EllapsedTime: 500.6 seconds RetCode: 0 Status: WARNINGS CheckDir: DelayedArray.Rcheck Warnings: 1