Package: DelayedArray Version: 0.34.1 Command: /home/biocbuild/R/R/bin/R CMD build --keep-empty-dirs --no-resave-data DelayedArray StartedAt: 2025-10-14 00:14:10 -0000 (Tue, 14 Oct 2025) EndedAt: 2025-10-14 00:15:28 -0000 (Tue, 14 Oct 2025) EllapsedTime: 78.0 seconds RetCode: 0 Status: OK PackageFile: DelayedArray_0.34.1.tar.gz PackageFileSize: 810.2 KiB