Package: DegNorm Version: 1.20.0 Command: /home/biocbuild/bbs-3.22-bioc/R/bin/R CMD INSTALL DegNorm StartedAt: 2025-11-11 15:44:13 -0500 (Tue, 11 Nov 2025) EndedAt: 2025-11-11 15:45:10 -0500 (Tue, 11 Nov 2025) EllapsedTime: 56.6 seconds RetCode: 0 Status: OK