Package: DegNorm Version: 1.20.0 Command: /Library/Frameworks/R.framework/Resources/bin/R CMD INSTALL DegNorm StartedAt: 2025-11-03 15:41:18 -0500 (Mon, 03 Nov 2025) EndedAt: 2025-11-03 15:42:30 -0500 (Mon, 03 Nov 2025) EllapsedTime: 72.0 seconds RetCode: 0 Status: OK