Package: DegNorm Version: 1.18.0 Command: /home/biocbuild/R/R/bin/R CMD INSTALL DegNorm StartedAt: 2025-10-13 20:54:44 -0000 (Mon, 13 Oct 2025) EndedAt: 2025-10-13 20:56:06 -0000 (Mon, 13 Oct 2025) EllapsedTime: 81.9 seconds RetCode: 0 Status: OK