Package: DegNorm Version: 1.18.0 Command: /home/biocbuild/R/R/bin/R CMD build --keep-empty-dirs --no-resave-data DegNorm StartedAt: 2025-10-14 00:13:36 -0000 (Tue, 14 Oct 2025) EndedAt: 2025-10-14 00:20:56 -0000 (Tue, 14 Oct 2025) EllapsedTime: 440.1 seconds RetCode: 1 Status: ERROR PackageFile: None PackageFileSize: NA