Package: DegCre Version: 1.6.0 Command: /home/biocbuild/bbs-3.22-bioc/R/bin/R CMD build --keep-empty-dirs --no-resave-data --md5 DegCre StartedAt: 2025-11-11 17:18:16 -0500 (Tue, 11 Nov 2025) EndedAt: 2025-11-11 17:19:42 -0500 (Tue, 11 Nov 2025) EllapsedTime: 86.1 seconds RetCode: 0 Status: OK PackageFile: DegCre_1.6.0.tar.gz PackageFileSize: 2.296 MiB