Package: DegCre Version: 1.6.0 Command: /Library/Frameworks/R.framework/Resources/bin/R CMD INSTALL DegCre StartedAt: 2025-11-02 15:22:29 -0500 (Sun, 02 Nov 2025) EndedAt: 2025-11-02 15:22:47 -0500 (Sun, 02 Nov 2025) EllapsedTime: 17.8 seconds RetCode: 0 Status: OK