Package: DegCre Version: 1.6.0 Command: /Library/Frameworks/R.framework/Resources/bin/R CMD build --keep-empty-dirs --no-resave-data DegCre StartedAt: 2025-11-02 16:09:27 -0500 (Sun, 02 Nov 2025) EndedAt: 2025-11-02 16:10:02 -0500 (Sun, 02 Nov 2025) EllapsedTime: 35.4 seconds RetCode: 0 Status: OK PackageFile: DegCre_1.6.0.tar.gz PackageFileSize: 2.429 MiB