Package: DegCre Version: 1.6.0 Command: rm -rf DegCre.buildbin-libdir && mkdir DegCre.buildbin-libdir && /Users/biocbuild/BBS/utils/build-universal.sh DegCre_1.6.0.tar.gz /Library/Frameworks/R.framework/Resources/bin/R DegCre.buildbin-libdir StartedAt: 2025-10-31 23:04:18 -0400 (Fri, 31 Oct 2025) EndedAt: 2025-10-31 23:04:38 -0400 (Fri, 31 Oct 2025) EllapsedTime: 19.4 seconds RetCode: 0 Status: OK PackageFile: DegCre_1.6.0.tgz PackageFileSize: 2.553 MiB