Package: DeepTarget Version: 1.4.0 Command: /home/biocbuild/R/R/bin/R CMD build --keep-empty-dirs --no-resave-data DeepTarget StartedAt: 2025-11-14 01:08:24 -0000 (Fri, 14 Nov 2025) EndedAt: 2025-11-14 01:09:26 -0000 (Fri, 14 Nov 2025) EllapsedTime: 62.0 seconds RetCode: 0 Status: OK PackageFile: DeepTarget_1.4.0.tar.gz PackageFileSize: 2.39 MiB