Package: DeepTarget Version: 1.4.0 Command: /home/biocbuild/bbs-3.22-bioc/R/bin/R CMD check --install=check:DeepTarget.install-out.txt --library=/home/biocbuild/bbs-3.22-bioc/R/site-library --timings DeepTarget_1.4.0.tar.gz StartedAt: 2025-11-11 22:56:18 -0500 (Tue, 11 Nov 2025) EndedAt: 2025-11-11 23:00:52 -0500 (Tue, 11 Nov 2025) EllapsedTime: 274.2 seconds RetCode: 0 Status: OK CheckDir: DeepTarget.Rcheck Warnings: 0