Package: DeepTarget Version: 1.2.0 Command: /home/biocbuild/bbs-3.21-bioc/R/bin/R CMD INSTALL DeepTarget StartedAt: 2025-10-05 15:30:16 -0400 (Sun, 05 Oct 2025) EndedAt: 2025-10-05 15:30:38 -0400 (Sun, 05 Oct 2025) EllapsedTime: 22.1 seconds RetCode: 0 Status: OK