Package: DeepTarget Version: 1.2.0 Command: rm -rf DeepTarget.buildbin-libdir && mkdir DeepTarget.buildbin-libdir && /Users/biocbuild/BBS/utils/build-universal.sh DeepTarget_1.2.0.tar.gz /Library/Frameworks/R.framework/Resources/bin/R DeepTarget.buildbin-libdir StartedAt: 2025-04-22 00:41:39 -0400 (Tue, 22 Apr 2025) EndedAt: 2025-04-22 00:42:10 -0400 (Tue, 22 Apr 2025) EllapsedTime: 30.9 seconds RetCode: 0 Status: OK PackageFile: DeepTarget_1.2.0.tgz PackageFileSize: 2.816 MiB