Package: DeepTarget Version: 1.2.0 Command: /home/biocbuild/R/R/bin/R CMD INSTALL DeepTarget StartedAt: 2025-09-25 20:46:13 -0000 (Thu, 25 Sep 2025) EndedAt: 2025-09-25 20:46:42 -0000 (Thu, 25 Sep 2025) EllapsedTime: 29.2 seconds RetCode: 0 Status: OK