Package: DeepTarget Version: 1.2.0 Command: /Library/Frameworks/R.framework/Resources/bin/R CMD INSTALL DeepTarget StartedAt: 2025-10-02 15:54:23 -0400 (Thu, 02 Oct 2025) EndedAt: 2025-10-02 15:54:49 -0400 (Thu, 02 Oct 2025) EllapsedTime: 25.9 seconds RetCode: 0 Status: OK