Package: DeepTarget Version: 1.2.0 Command: /Library/Frameworks/R.framework/Resources/bin/R CMD build --keep-empty-dirs --no-resave-data DeepTarget StartedAt: 2025-10-02 22:52:40 -0400 (Thu, 02 Oct 2025) EndedAt: 2025-10-02 22:53:30 -0400 (Thu, 02 Oct 2025) EllapsedTime: 50.3 seconds RetCode: 0 Status: OK PackageFile: DeepTarget_1.2.0.tar.gz PackageFileSize: 2.797 MiB