Package: DeepPINCS Version: 1.18.0 Command: /home/biocbuild/R/R/bin/R CMD INSTALL DeepPINCS StartedAt: 2025-11-10 21:16:52 -0000 (Mon, 10 Nov 2025) EndedAt: 2025-11-10 21:17:13 -0000 (Mon, 10 Nov 2025) EllapsedTime: 20.8 seconds RetCode: 0 Status: OK