Package: DeepPINCS Version: 1.18.0 Command: /home/biocbuild/R/R/bin/R CMD build --keep-empty-dirs --no-resave-data DeepPINCS StartedAt: 2025-11-11 01:02:37 -0000 (Tue, 11 Nov 2025) EndedAt: 2025-11-11 01:03:15 -0000 (Tue, 11 Nov 2025) EllapsedTime: 38.0 seconds RetCode: 0 Status: OK PackageFile: DeepPINCS_1.18.0.tar.gz PackageFileSize: 2.464 MiB