Package: DeepPINCS Version: 1.16.0 Command: rm -rf DeepPINCS.buildbin-libdir && mkdir DeepPINCS.buildbin-libdir && E:\biocbuild\bbs-3.21-bioc\R\bin\R.exe CMD INSTALL --build --library=DeepPINCS.buildbin-libdir DeepPINCS_1.16.0.tar.gz StartedAt: 2025-08-15 09:08:11 -0400 (Fri, 15 Aug 2025) EndedAt: 2025-08-15 09:08:55 -0400 (Fri, 15 Aug 2025) EllapsedTime: 44.8 seconds RetCode: 0 Status: OK PackageFile: DeepPINCS_1.16.0.zip PackageFileSize: 2.241 MiB