Package: DeepPINCS Version: 1.18.0 Command: /Library/Frameworks/R.framework/Resources/bin/R CMD check --install=check:DeepPINCS.install-out.txt --library=/Library/Frameworks/R.framework/Resources/library --no-vignettes --timings DeepPINCS_1.18.0.tar.gz StartedAt: 2025-11-10 19:38:35 -0500 (Mon, 10 Nov 2025) EndedAt: 2025-11-10 19:39:12 -0500 (Mon, 10 Nov 2025) EllapsedTime: 37.4 seconds RetCode: 0 Status: OK CheckDir: DeepPINCS.Rcheck Warnings: 0