Package: DeepPINCS Version: 1.18.0 Command: rm -rf DeepPINCS.buildbin-libdir && mkdir DeepPINCS.buildbin-libdir && /Users/biocbuild/BBS/utils/build-universal.sh DeepPINCS_1.18.0.tar.gz /Library/Frameworks/R.framework/Resources/bin/R DeepPINCS.buildbin-libdir StartedAt: 2025-11-10 23:17:20 -0500 (Mon, 10 Nov 2025) EndedAt: 2025-11-10 23:17:27 -0500 (Mon, 10 Nov 2025) EllapsedTime: 7.1 seconds RetCode: 0 Status: OK PackageFile: DeepPINCS_1.18.0.tgz PackageFileSize: 2.237 MiB