Package: DeeDeeExperiment Version: 1.0.0 Command: /home/biocbuild/R/R/bin/R CMD INSTALL DeeDeeExperiment StartedAt: 2025-11-20 22:10:25 -0000 (Thu, 20 Nov 2025) EndedAt: 2025-11-20 22:11:05 -0000 (Thu, 20 Nov 2025) EllapsedTime: 40.0 seconds RetCode: 0 Status: OK