Package: DeeDeeExperiment Version: 1.0.0 Command: /home/biocbuild/R/R/bin/R CMD build --keep-empty-dirs --no-resave-data DeeDeeExperiment StartedAt: 2025-11-21 01:43:23 -0000 (Fri, 21 Nov 2025) EndedAt: 2025-11-21 01:44:48 -0000 (Fri, 21 Nov 2025) EllapsedTime: 84.0 seconds RetCode: 0 Status: OK PackageFile: DeeDeeExperiment_1.0.0.tar.gz PackageFileSize: 4.568 MiB