Package: DeeDeeExperiment Version: 1.0.0 Command: /home/biocbuild/bbs-3.22-bioc/R/bin/R CMD INSTALL DeeDeeExperiment StartedAt: 2025-11-03 15:22:27 -0500 (Mon, 03 Nov 2025) EndedAt: 2025-11-03 15:22:58 -0500 (Mon, 03 Nov 2025) EllapsedTime: 31.2 seconds RetCode: 0 Status: OK