Package: DeeDeeExperiment Version: 1.0.0 Command: /home/biocbuild/bbs-3.22-bioc/R/bin/R CMD check --install=check:DeeDeeExperiment.install-out.txt --library=/home/biocbuild/bbs-3.22-bioc/R/site-library --timings DeeDeeExperiment_1.0.0.tar.gz StartedAt: 2025-11-05 22:55:18 -0500 (Wed, 05 Nov 2025) EndedAt: 2025-11-05 22:59:41 -0500 (Wed, 05 Nov 2025) EllapsedTime: 263.2 seconds RetCode: 0 Status: OK CheckDir: DeeDeeExperiment.Rcheck Warnings: 0