Package: DeeDeeExperiment Version: 1.0.0 Command: /Library/Frameworks/R.framework/Resources/bin/R CMD INSTALL DeeDeeExperiment StartedAt: 2025-11-20 16:23:54 -0500 (Thu, 20 Nov 2025) EndedAt: 2025-11-20 16:25:01 -0500 (Thu, 20 Nov 2025) EllapsedTime: 67.4 seconds RetCode: 0 Status: OK