Package: DeeDeeExperiment Version: 1.0.0 Command: rm -rf DeeDeeExperiment.buildbin-libdir && mkdir DeeDeeExperiment.buildbin-libdir && /Users/biocbuild/BBS/utils/build-universal.sh DeeDeeExperiment_1.0.0.tar.gz /Library/Frameworks/R.framework/Resources/bin/R DeeDeeExperiment.buildbin-libdir StartedAt: 2025-11-21 14:33:45 -0500 (Fri, 21 Nov 2025) EndedAt: 2025-11-21 14:34:53 -0500 (Fri, 21 Nov 2025) EllapsedTime: 68.2 seconds RetCode: 0 Status: OK PackageFile: DeeDeeExperiment_1.0.0.tgz PackageFileSize: 4.688 MiB