Package: DeeDeeExperiment Version: 1.0.0 Command: /Library/Frameworks/R.framework/Resources/bin/R CMD INSTALL DeeDeeExperiment StartedAt: 2025-11-04 15:13:44 -0500 (Tue, 04 Nov 2025) EndedAt: 2025-11-04 15:13:56 -0500 (Tue, 04 Nov 2025) EllapsedTime: 12.0 seconds RetCode: 0 Status: OK